BEGIN:VCALENDAR
VERSION:2.0
PRODID:-//Tukios.com/
BEGIN:VEVENT
UID:1f770e0d-1061-472a-ae8a-8b0f0073de17@www.rwoodardfuneralhome.com
DTSTAMP:20260423T203358Z
DTSTART:20260426T150000Z
DTEND:20260426T190000Z
SUMMARY:Visitation
DESCRIPTION:
URL:https://www.rwoodardfuneralhome.com/obituaries/edward-mueller
LOCATION: 5591 US-31E  Westmoreland TN 37186
GEO:36.5711453;-86.24054
END:VEVENT
END:VCALENDAR