BEGIN:VCALENDAR
VERSION:2.0
PRODID:-//Tukios.com/
BEGIN:VEVENT
UID:d37bd708-706f-4ef5-8b73-4b4913ad418d@www.rwoodardfuneralhome.com
DTSTAMP:20260423T203624Z
DTSTART:20260426T190000Z
DTEND:20260426T200000Z
SUMMARY:Funeral Service
DESCRIPTION:
URL:https://www.rwoodardfuneralhome.com/obituaries/edward-mueller
LOCATION: 5591 US-31E  Westmoreland TN 37186
GEO:36.5711453;-86.24054
END:VEVENT
END:VCALENDAR